BEGIN:VCALENDAR
VERSION:2.0
PRODID:-//pretix//pretix.eu//
BEGIN:VTIMEZONE
TZID:Europe/Berlin
BEGIN:STANDARD
DTSTART:20001029T040000
RRULE:FREQ=YEARLY;BYDAY=-1SU;BYMONTH=10
TZNAME:CET
TZOFFSETFROM:+0200
TZOFFSETTO:+0100
END:STANDARD
BEGIN:DAYLIGHT
DTSTART:20000326T030000
RRULE:FREQ=YEARLY;BYDAY=-1SU;BYMONTH=3
TZNAME:CEST
TZOFFSETFROM:+0100
TZOFFSETTO:+0200
END:DAYLIGHT
END:VTIMEZONE
BEGIN:VEVENT
UID:pretix-point8-data-driven-biz-0@events.point-8.de
DTSTART;TZID=Europe/Berlin:20260528T090000
DTEND;TZID=Europe/Berlin:20260528T163000
DESCRIPTION:Tickets: https://events.point-8.de/data-driven-biz/\nVeranstalt
 er: Point 8 GmbH
DTSTAMP:20260421T221023Z
LOCATION:Verbandshaus der Unternehmensverbände für Dortmund und Umgebung\
 , Prinz-Friedrich-Karl-Straße 14\, 44135 Dortmund
SUMMARY:Data‑Driven Business – Der Weg zur datengetriebenen Organisation
END:VEVENT
BEGIN:VEVENT
UID:pretix-point8-python-0@events.point-8.de
DTSTART;TZID=Europe/Berlin:20260615T090000
DTEND;TZID=Europe/Berlin:20260616T160000
DESCRIPTION:Tickets: https://events.point-8.de/python/\nVeranstalter: Point
  8 GmbH
DTSTAMP:20260421T221023Z
LOCATION:Verbandshaus der Unternehmensverbände für Dortmund und Umgebung\
 , Prinz-Friedrich-Karl-Straße 14\, 44135 Dortmund
SUMMARY:Grundlagen der Datenanalyse mit Python (2-tägiges Training)
END:VEVENT
BEGIN:VEVENT
UID:pretix-point8-data-literacy-0@events.point-8.de
DTSTART;TZID=Europe/Berlin:20260715T090000
DTEND;TZID=Europe/Berlin:20260715T163000
DESCRIPTION:Tickets: https://events.point-8.de/data-literacy/\nVeranstalter
 : Point 8 GmbH
DTSTAMP:20260421T221023Z
LOCATION:Verbandshaus der Unternehmensverbände für Dortmund und Umgebung\
 , Prinz-Friedrich-Karl-Straße 14\, 44135 Dortmund
SUMMARY:Data Literacy – Daten lesen\, interpretieren und anwenden
END:VEVENT
BEGIN:VEVENT
UID:pretix-point8-data-driven-biz-2-0@events.point-8.de
DTSTART;TZID=Europe/Berlin:20260907T090000
DTEND;TZID=Europe/Berlin:20260907T163000
DESCRIPTION:Tickets: https://events.point-8.de/data-driven-biz-2/\nVeransta
 lter: Point 8 GmbH
DTSTAMP:20260421T221023Z
LOCATION:Verbandshaus der Unternehmensverbände für Dortmund und Umgebung\
 , Prinz-Friedrich-Karl-Straße 14\, 44135 Dortmund
SUMMARY:Data‑Driven Business – Der Weg zur datengetriebenen Organisation
END:VEVENT
BEGIN:VEVENT
UID:pretix-point8-python-2-0@events.point-8.de
DTSTART;TZID=Europe/Berlin:20261014T090000
DTEND;TZID=Europe/Berlin:20261015T160000
DESCRIPTION:Tickets: https://events.point-8.de/python-2/\nVeranstalter: Poi
 nt 8 GmbH
DTSTAMP:20260421T221023Z
LOCATION:Verbandshaus der Unternehmensverbände für Dortmund und Umgebung\
 , Prinz-Friedrich-Karl-Straße 14\, 44135 Dortmund
SUMMARY:Grundlagen der Datenanalyse mit Python (2-tägiges Training)
END:VEVENT
BEGIN:VEVENT
UID:pretix-point8-data-literacy-2-0@events.point-8.de
DTSTART;TZID=Europe/Berlin:20261105T090000
DTEND;TZID=Europe/Berlin:20261105T163000
DESCRIPTION:Tickets: https://events.point-8.de/data-literacy-2/\nVeranstalt
 er: Point 8 GmbH
DTSTAMP:20260421T221023Z
LOCATION:Verbandshaus der Unternehmensverbände für Dortmund und Umgebung\
 , Prinz-Friedrich-Karl-Straße 14\, 44135 Dortmund
SUMMARY:Data Literacy – Daten lesen\, interpretieren und anwenden
END:VEVENT
END:VCALENDAR
